BEGIN:VCALENDAR
VERSION:2.0
PRODID:https://karriere.aldi-sued.de/events/detail/ausbildungsmesse-visionen-balingen-1903
METHOD:PUBLISH
BEGIN:VTIMEZONE
TZID:Europe/Berlin
BEGIN:DAYLIGHT
TZOFFSETFROM:+0100
RRULE:FREQ=YEARLY;BYMONTH=3;BYDAY=-1SU
DTSTART:19810329T020000
TZNAME:MESZ
TZOFFSETTO:+0200
END:DAYLIGHT
BEGIN:STANDARD
TZOFFSETFROM:+0200
RRULE:FREQ=YEARLY;BYMONTH=10;BYDAY=-1SU
DTSTART:19961027T030000
TZNAME:MEZ
TZOFFSETTO:+0100
END:STANDARD
END:VTIMEZONE
BEGIN:VEVENT
UID:https://karriere.aldi-sued.de/events/detail/ausbildungsmesse-visionen-balingen-1903?Auf Stetten 4\, 72336 Balingen\, 
LOCATION:Auf Stetten 4\, 72336 Balingen\, 
SUMMARY:Ausbildungsmesse Visionen Balingen
CLASS:PUBLIC
DTSTART;TZID=Europe/Berlin:20261015T000000
DTEND;TZID=Europe/Berlin:20261017T000000
END:VEVENT
END:VCALENDAR